Package: rgoslin Version: 1.11.0 Command: chmod a+r rgoslin -R && E:\biocbuild\bbs-3.21-bioc\R\bin\R.exe CMD build --keep-empty-dirs --no-resave-data rgoslin StartedAt: 2025-02-19 21:10:37 -0500 (Wed, 19 Feb 2025) EndedAt: 2025-02-19 21:13:58 -0500 (Wed, 19 Feb 2025) EllapsedTime: 200.5 seconds RetCode: 0 Status: OK PackageFile: rgoslin_1.11.0.tar.gz PackageFileSize: 466.3 <A href="http://en.wikipedia.org/wiki/KiB" target="_blank">KiB</A>