Package: rgoslin
Version: 1.11.0
Command: rm -rf rgoslin.buildbin-libdir && mkdir rgoslin.buildbin-libdir && E:\biocbuild\bbs-3.21-bioc\R\bin\R.exe CMD INSTALL --build --library=rgoslin.buildbin-libdir rgoslin_1.11.0.tar.gz
StartedAt: 2025-02-20 08:34:56 -0500 (Thu, 20 Feb 2025)
EndedAt: 2025-02-20 08:37:40 -0500 (Thu, 20 Feb 2025)
EllapsedTime: 164.0 seconds
RetCode: 0
Status: OK
PackageFile: rgoslin_1.11.0.zip
PackageFileSize: 1.246 <A href="http://en.wikipedia.org/wiki/MiB" target="_blank">MiB</A>