Package: rgoslin Version: 1.11.0 Command: /home/biocbuild/bbs-3.21-bioc/R/bin/R CMD INSTALL rgoslin StartedAt: 2025-02-19 15:09:19 -0500 (Wed, 19 Feb 2025) EndedAt: 2025-02-19 15:11:54 -0500 (Wed, 19 Feb 2025) EllapsedTime: 155.0 seconds RetCode: 0 Status: OK