Package: rgoslin
Version: 1.11.0
Command: /home/biocbuild/bbs-3.21-bioc/R/bin/R CMD build --keep-empty-dirs --no-resave-data rgoslin
StartedAt: 2025-02-19 18:52:37 -0500 (Wed, 19 Feb 2025)
EndedAt: 2025-02-19 18:55:34 -0500 (Wed, 19 Feb 2025)
EllapsedTime: 177.2 seconds
RetCode: 0
Status: OK
PackageFile: rgoslin_1.11.0.tar.gz
PackageFileSize: 730.6 <A href="http://en.wikipedia.org/wiki/KiB" target="_blank">KiB</A>