Package: rgoslin Version: 1.11.0 Command: /Library/Frameworks/R.framework/Resources/bin/R CMD INSTALL rgoslin StartedAt: 2025-02-19 15:29:57 -0500 (Wed, 19 Feb 2025) EndedAt: 2025-02-19 15:30:46 -0500 (Wed, 19 Feb 2025) EllapsedTime: 49.5 seconds RetCode: 0 Status: OK