Package: rgoslin
Version: 1.11.0
Command: /Library/Frameworks/R.framework/Resources/bin/R CMD check --install=check:rgoslin.install-out.txt --library=/Library/Frameworks/R.framework/Resources/library --no-vignettes --timings rgoslin_1.11.0.tar.gz
StartedAt: 2025-02-19 21:04:05 -0500 (Wed, 19 Feb 2025)
EndedAt: 2025-02-19 21:04:17 -0500 (Wed, 19 Feb 2025)
EllapsedTime: 12.1 seconds
RetCode: 0
Status: OK
CheckDir: rgoslin.Rcheck
Warnings: 0