Package: rgoslin Version: 1.11.0 Command: /Library/Frameworks/R.framework/Resources/bin/R CMD build --keep-empty-dirs --no-resave-data rgoslin StartedAt: 2025-02-19 17:24:30 -0500 (Wed, 19 Feb 2025) EndedAt: 2025-02-19 17:25:38 -0500 (Wed, 19 Feb 2025) EllapsedTime: 68.7 seconds RetCode: 0 Status: OK PackageFile: rgoslin_1.11.0.tar.gz PackageFileSize: 1.401 <A href="http://en.wikipedia.org/wiki/MiB" target="_blank">MiB</A>