Package: rgoslin
Version: 1.11.0
Command: rm -rf rgoslin.buildbin-libdir && mkdir rgoslin.buildbin-libdir && /Users/biocbuild/BBS/utils/build-universal.sh rgoslin_1.11.0.tar.gz /Library/Frameworks/R.framework/Resources/bin/R rgoslin.buildbin-libdir
StartedAt: 2025-02-19 22:35:08 -0500 (Wed, 19 Feb 2025)
EndedAt: 2025-02-19 22:36:11 -0500 (Wed, 19 Feb 2025)
EllapsedTime: 63.1 seconds
RetCode: 0
Status: OK
PackageFile: rgoslin_1.11.0.tgz
PackageFileSize: 1.139 <A href="http://en.wikipedia.org/wiki/MiB" target="_blank">MiB</A>