Package: regioneR Version: 1.39.0 Command: E:\biocbuild\bbs-3.21-bioc\R\bin\R.exe CMD INSTALL regioneR StartedAt: 2025-02-19 16:00:49 -0500 (Wed, 19 Feb 2025) EndedAt: 2025-02-19 16:01:41 -0500 (Wed, 19 Feb 2025) EllapsedTime: 52.3 seconds RetCode: 0 Status: OK