##############################################################################
##############################################################################
###
### Running command:
###
###   E:\biocbuild\bbs-3.21-bioc\R\bin\R.exe CMD check --no-multiarch --install=check:regioneR.install-out.txt --library=E:\biocbuild\bbs-3.21-bioc\R\library --no-vignettes --timings regioneR_1.39.0.tar.gz
###
##############################################################################
##############################################################################


* using log directory 'E:/biocbuild/bbs-3.21-bioc/meat/regioneR.Rcheck'
* using R Under development (unstable) (2024-10-26 r87273 ucrt)
* using platform: x86_64-w64-mingw32
* R was compiled by
    gcc.exe (GCC) 13.2.0
    GNU Fortran (GCC) 13.2.0
* running under: Windows Server 2022 x64 (build 20348)
* using session charset: UTF-8
* using option '--no-vignettes'
* checking for file 'regioneR/DESCRIPTION' ... OK
* checking extension type ... Package
* this is package 'regioneR' version '1.39.0'
* package encoding: UTF-8
* checking package namespace information ... OK
* checking package dependencies ... OK
* checking if this is a source package ... OK
* checking if there is a namespace ... OK
* checking for hidden files and directories ... OK
* checking for portable file names ... OK
* checking whether package 'regioneR' can be installed ... OK
* checking installed package size ... OK
* checking package directory ... OK
* checking 'build' directory ... OK
* checking DESCRIPTION meta-information ... NOTE
Package listed in more than one of Depends, Imports, Suggests, Enhances:
  'GenomicRanges'
A package should be listed in only one of these fields.
* checking top-level files ... OK
* checking for left-over files ... OK
* checking index information ... OK
* checking package subdirectories ... OK
* checking code files for non-ASCII characters ... OK
* checking R files for syntax errors ... OK
* checking whether the package can be loaded ... OK
* checking whether the package can be loaded with stated dependencies ... OK
* checking whether the package can be unloaded cleanly ... OK
* checking whether the namespace can be loaded with stated dependencies ... OK
* checking whether the namespace can be unloaded cleanly ... OK
* checking dependencies in R code ... OK
* checking S3 generic/method consistency ... OK
* checking replacement functions ... OK
* checking foreign function calls ... OK
* checking R code for possible problems ... OK
* checking Rd files ... OK
* checking Rd metadata ... OK
* checking Rd cross-references ... NOTE
Found the following Rd file(s) with Rd \link{} targets missing package
anchors:
  characterToBSGenome.Rd: BSgenome
  circularRandomizeRegions.Rd: GenomicRanges, BSgenome
  commonRegions.Rd: GenomicRanges
  createRandomRegions.Rd: GenomicRanges, BSgenome
  extendRegions.Rd: GenomicRanges
  filterChromosomes.Rd: GenomicRanges, BSgenome, GRanges
  getGenome.Rd: BSgenome, GRanges, memoise, forget
  getGenomeAndMask.Rd: BSgenome, memoise, forget
  getMask.Rd: BSgenome, GRanges, memoise, forget
  joinRegions.Rd: GenomicRanges, reduce
  localZScore.Rd: GenomicRanges
  maskFromBSGenome.Rd: BSgenome, GRanges, memoise, forget
  meanDistance.Rd: GenomicRanges
  meanInRegions.Rd: GenomicRanges
  mergeRegions.Rd: GenomicRanges, reduce
  numOverlaps.Rd: GenomicRanges
  overlapGraphicalSummary.Rd: GenomicRanges
  overlapPermTest.Rd: GenomicRanges
  overlapRegions.Rd: GenomicRanges, countOverlaps
  permTest.Rd: GenomicRanges
  randomizeRegions.Rd: GenomicRanges, BSgenome
  resampleGenome.Rd: GenomicRanges
  resampleRegions.Rd: GenomicRanges
  splitRegions.Rd: GenomicRanges
  subtractRegions.Rd: GenomicRanges
  toDataframe.Rd: GRanges
  toGRanges.Rd: GRanges, BSgenome
  uniqueRegions.Rd: GenomicRanges
Please provide package anchors for all Rd \link{} targets not in the
package itself and the base packages.
* checking for missing documentation entries ... OK
* checking for code/documentation mismatches ... OK
* checking Rd \usage sections ... OK
* checking Rd contents ... OK
* checking for unstated dependencies in examples ... OK
* checking files in 'vignettes' ... OK
* checking examples ... OK
Examples with CPU (user + system) or elapsed time > 5s
                           user system elapsed
maskFromBSGenome         205.25   5.74  211.05
getMask                  196.19   5.19  201.43
filterChromosomes        195.45   5.56  208.73
circularRandomizeRegions 184.13   5.25  203.10
resampleGenome            11.69   0.84   12.53
localZScore                5.56   0.03    5.59
* checking for unstated dependencies in 'tests' ... OK
* checking tests ...
  Running 'testthat.R'
 OK
* checking for unstated dependencies in vignettes ... OK
* checking package vignettes ... OK
* checking running R code from vignettes ... SKIPPED
* checking re-building of vignette outputs ... SKIPPED
* checking PDF version of manual ... OK
* DONE

Status: 2 NOTEs
See
  'E:/biocbuild/bbs-3.21-bioc/meat/regioneR.Rcheck/00check.log'
for details.