Package: regioneR Version: 1.39.0 Command: chmod a+r regioneR -R && E:\biocbuild\bbs-3.21-bioc\R\bin\R.exe CMD build --keep-empty-dirs --no-resave-data regioneR StartedAt: 2025-02-19 21:08:08 -0500 (Wed, 19 Feb 2025) EndedAt: 2025-02-19 21:13:09 -0500 (Wed, 19 Feb 2025) EllapsedTime: 300.6 seconds RetCode: 1 Status: ERROR PackageFile: None PackageFileSize: NA