Package: regioneR
Version: 1.39.0
Command: rm -rf regioneR.buildbin-libdir && mkdir regioneR.buildbin-libdir && E:\biocbuild\bbs-3.21-bioc\R\bin\R.exe CMD INSTALL --build --library=regioneR.buildbin-libdir regioneR_1.39.0.tar.gz
StartedAt: 2025-01-22 08:23:09 -0500 (Wed, 22 Jan 2025)
EndedAt: 2025-01-22 08:24:00 -0500 (Wed, 22 Jan 2025)
EllapsedTime: 51.1 seconds
RetCode: 0
Status: OK
PackageFile: regioneR_1.39.0.zip
PackageFileSize: 1.61 <A href="http://en.wikipedia.org/wiki/MiB" target="_blank">MiB</A>