Package: regioneR Version: 1.39.0 Command: /Library/Frameworks/R.framework/Resources/bin/R CMD build --keep-empty-dirs --no-resave-data regioneR StartedAt: 2025-02-19 17:57:45 -0500 (Wed, 19 Feb 2025) EndedAt: 2025-02-19 17:59:16 -0500 (Wed, 19 Feb 2025) EllapsedTime: 91.4 seconds RetCode: 1 Status: ERROR PackageFile: None PackageFileSize: NA