Package: regioneR
Version: 1.39.0
Command: rm -rf regioneR.buildbin-libdir && mkdir regioneR.buildbin-libdir && /Users/biocbuild/BBS/utils/build-universal.sh regioneR_1.39.0.tar.gz /Library/Frameworks/R.framework/Resources/bin/R regioneR.buildbin-libdir
StartedAt: 2025-01-22 01:09:01 -0500 (Wed, 22 Jan 2025)
EndedAt: 2025-01-22 01:09:53 -0500 (Wed, 22 Jan 2025)
EllapsedTime: 51.6 seconds
RetCode: 0
Status: OK
PackageFile: regioneR_1.39.0.tgz
PackageFileSize: 1.796 <A href="http://en.wikipedia.org/wiki/MiB" target="_blank">MiB</A>