Package: regioneR
Version: 1.39.0
Command: /Library/Frameworks/R.framework/Resources/bin/R CMD INSTALL regioneR
StartedAt: 2025-02-19 15:10:37 -0500 (Wed, 19 Feb 2025)
EndedAt: 2025-02-19 15:10:51 -0500 (Wed, 19 Feb 2025)
EllapsedTime: 13.9 seconds
RetCode: 0
Status: OK