Package: regioneR
Version: 1.39.0
Command: /Library/Frameworks/R.framework/Resources/bin/R CMD check --install=check:regioneR.install-out.txt --library=/Library/Frameworks/R.framework/Resources/library --no-vignettes --timings regioneR_1.39.0.tar.gz
StartedAt: 2025-01-21 21:06:00 -0500 (Tue, 21 Jan 2025)
EndedAt: 2025-01-21 21:09:00 -0500 (Tue, 21 Jan 2025)
EllapsedTime: 180.3 seconds
RetCode: 0
Status: OK
CheckDir: regioneR.Rcheck
Warnings: 0