Package: regionalpcs
Version: 1.5.0
Command: E:\biocbuild\bbs-3.21-bioc\R\bin\R.exe CMD INSTALL regionalpcs
StartedAt: 2025-02-19 16:48:41 -0500 (Wed, 19 Feb 2025)
EndedAt: 2025-02-19 16:48:48 -0500 (Wed, 19 Feb 2025)
EllapsedTime: 7.1 seconds
RetCode: 0
Status: OK