Package: regionalpcs Version: 1.5.0 Command: chmod a+r regionalpcs -R && E:\biocbuild\bbs-3.21-bioc\R\bin\R.exe CMD build --keep-empty-dirs --no-resave-data regionalpcs StartedAt: 2025-02-19 21:07:44 -0500 (Wed, 19 Feb 2025) EndedAt: 2025-02-19 21:08:27 -0500 (Wed, 19 Feb 2025) EllapsedTime: 43.2 seconds RetCode: 0 Status: OK PackageFile: regionalpcs_1.5.0.tar.gz PackageFileSize: 470.2 <A href="http://en.wikipedia.org/wiki/KiB" target="_blank">KiB</A>