##############################################################################
##############################################################################
###
### Running command:
###
###   chmod a+r regionalpcs -R && E:\biocbuild\bbs-3.21-bioc\R\bin\R.exe CMD build --keep-empty-dirs --no-resave-data regionalpcs
###
##############################################################################
##############################################################################


* checking for file 'regionalpcs/DESCRIPTION' ... OK
* preparing 'regionalpcs':
* checking DESCRIPTION meta-information ... OK
* installing the package to build vignettes
* creating vignettes ... OK
* checking for LF line-endings in source and make files and shell scripts
* checking for empty or unneeded directories
Omitted 'LazyData' from DESCRIPTION
* building 'regionalpcs_1.5.0.tar.gz'