Package: regionalpcs
Version: 1.5.0
Command: rm -rf regionalpcs.buildbin-libdir && mkdir regionalpcs.buildbin-libdir && E:\biocbuild\bbs-3.21-bioc\R\bin\R.exe CMD INSTALL --build --library=regionalpcs.buildbin-libdir regionalpcs_1.5.0.tar.gz
StartedAt: 2025-02-20 08:33:57 -0500 (Thu, 20 Feb 2025)
EndedAt: 2025-02-20 08:34:12 -0500 (Thu, 20 Feb 2025)
EllapsedTime: 14.7 seconds
RetCode: 0
Status: OK
PackageFile: regionalpcs_1.5.0.zip
PackageFileSize: 479.9 <A href="http://en.wikipedia.org/wiki/KiB" target="_blank">KiB</A>