Package: recoup
Version: 1.35.0
Maintainer: Panagiotis Moulos
MaintainerEmail: moulos at fleming.gr
git_url: https://git.bioconductor.org/packages/recoup
git_branch: devel
git_last_commit: 8112b7e
git_last_commit_date: 2024-10-29 10:08:59 -0500 (Tue, 29 Oct 2024)