Package: recount
Version: 1.33.0
Command: E:\biocbuild\bbs-3.21-bioc\R\bin\R.exe CMD check --no-multiarch --install=check:recount.install-out.txt --library=E:\biocbuild\bbs-3.21-bioc\R\library --no-vignettes --timings recount_1.33.0.tar.gz
StartedAt: 2025-02-20 04:35:05 -0500 (Thu, 20 Feb 2025)
EndedAt: 2025-02-20 04:44:49 -0500 (Thu, 20 Feb 2025)
EllapsedTime: 583.4 seconds
RetCode: 0
Status: OK
CheckDir: recount.Rcheck
Warnings: 0