Package: recount
Version: 1.33.0
Command: chmod a+r recount -R && E:\biocbuild\bbs-3.21-bioc\R\bin\R.exe CMD build --keep-empty-dirs --no-resave-data recount
StartedAt: 2025-02-19 21:07:03 -0500 (Wed, 19 Feb 2025)
EndedAt: 2025-02-19 21:12:10 -0500 (Wed, 19 Feb 2025)
EllapsedTime: 307.0 seconds
RetCode: 0
Status: OK
PackageFile: recount_1.33.0.tar.gz
PackageFileSize: 6.869 <A href="http://en.wikipedia.org/wiki/MiB" target="_blank">MiB</A>