Package: recount
Version: 1.33.0
Command: rm -rf recount.buildbin-libdir && mkdir recount.buildbin-libdir && E:\biocbuild\bbs-3.21-bioc\R\bin\R.exe CMD INSTALL --build --library=recount.buildbin-libdir recount_1.33.0.tar.gz
StartedAt: 2025-02-20 08:33:38 -0500 (Thu, 20 Feb 2025)
EndedAt: 2025-02-20 08:34:53 -0500 (Thu, 20 Feb 2025)
EllapsedTime: 74.6 seconds
RetCode: 0
Status: OK
PackageFile: recount_1.33.0.zip
PackageFileSize: 7.234 <A href="http://en.wikipedia.org/wiki/MiB" target="_blank">MiB</A>