Package: recount
Version: 1.33.0
Command: /home/biocbuild/R/R/bin/R CMD INSTALL recount
StartedAt: 2025-01-29 20:08:05 -0000 (Wed, 29 Jan 2025)
EndedAt: 2025-01-29 20:09:34 -0000 (Wed, 29 Jan 2025)
EllapsedTime: 89.0 seconds
RetCode: 0
Status: OK