Package: recount Version: 1.33.0 Command: /Library/Frameworks/R.framework/Resources/bin/R CMD INSTALL recount StartedAt: 2025-02-19 15:16:29 -0500 (Wed, 19 Feb 2025) EndedAt: 2025-02-19 15:17:00 -0500 (Wed, 19 Feb 2025) EllapsedTime: 30.7 seconds RetCode: 0 Status: OK