Package: recount Version: 1.33.0 Command: /Library/Frameworks/R.framework/Resources/bin/R CMD check --install=check:recount.install-out.txt --library=/Library/Frameworks/R.framework/Resources/library --no-vignettes --timings recount_1.33.0.tar.gz StartedAt: 2025-02-19 21:00:09 -0500 (Wed, 19 Feb 2025) EndedAt: 2025-02-19 21:04:27 -0500 (Wed, 19 Feb 2025) EllapsedTime: 258.0 seconds RetCode: 0 Status: OK CheckDir: recount.Rcheck Warnings: 0