Package: recount
Version: 1.33.0
Command: /Library/Frameworks/R.framework/Resources/bin/R CMD build --keep-empty-dirs --no-resave-data recount
StartedAt: 2025-02-19 17:22:59 -0500 (Wed, 19 Feb 2025)
EndedAt: 2025-02-19 17:29:06 -0500 (Wed, 19 Feb 2025)
EllapsedTime: 367.1 seconds
RetCode: 0
Status: OK
PackageFile: recount_1.33.0.tar.gz
PackageFileSize: 7.492 <A href="http://en.wikipedia.org/wiki/MiB" target="_blank">MiB</A>