Package: recount
Version: 1.33.0
Command: rm -rf recount.buildbin-libdir && mkdir recount.buildbin-libdir && /Users/biocbuild/BBS/utils/build-universal.sh recount_1.33.0.tar.gz /Library/Frameworks/R.framework/Resources/bin/R recount.buildbin-libdir
StartedAt: 2025-02-19 22:34:43 -0500 (Wed, 19 Feb 2025)
EndedAt: 2025-02-19 22:35:16 -0500 (Wed, 19 Feb 2025)
EllapsedTime: 32.7 seconds
RetCode: 0
Status: OK
PackageFile: recount_1.33.0.tgz
PackageFileSize: 7.854 <A href="http://en.wikipedia.org/wiki/MiB" target="_blank">MiB</A>