Package: randRotation
Version: 1.19.0
Maintainer: Peter Hettegger
MaintainerEmail: p.hettegger at gmail.com
git_url: https://git.bioconductor.org/packages/randRotation
git_branch: devel
git_last_commit: f41d79e
git_last_commit_date: 2024-10-29 10:46:02 -0500 (Tue, 29 Oct 2024)