Package: rain Version: 1.41.0 Command: E:\biocbuild\bbs-3.21-bioc\R\bin\R.exe CMD INSTALL rain StartedAt: 2025-02-19 16:39:09 -0500 (Wed, 19 Feb 2025) EndedAt: 2025-02-19 16:39:20 -0500 (Wed, 19 Feb 2025) EllapsedTime: 10.7 seconds RetCode: 0 Status: OK