Package: rain
Version: 1.41.0
Command: E:\biocbuild\bbs-3.21-bioc\R\bin\R.exe CMD check --no-multiarch --install=check:rain.install-out.txt --library=E:\biocbuild\bbs-3.21-bioc\R\library --no-vignettes --timings rain_1.41.0.tar.gz
StartedAt: 2025-02-20 04:28:37 -0500 (Thu, 20 Feb 2025)
EndedAt: 2025-02-20 04:30:09 -0500 (Thu, 20 Feb 2025)
EllapsedTime: 91.8 seconds
RetCode: 0
Status: OK
CheckDir: rain.Rcheck
Warnings: 0