Package: rain Version: 1.41.0 Command: chmod a+r rain -R && E:\biocbuild\bbs-3.21-bioc\R\bin\R.exe CMD build --keep-empty-dirs --no-resave-data rain StartedAt: 2025-02-19 21:00:59 -0500 (Wed, 19 Feb 2025) EndedAt: 2025-02-19 21:01:35 -0500 (Wed, 19 Feb 2025) EllapsedTime: 36.4 seconds RetCode: 0 Status: OK PackageFile: rain_1.41.0.tar.gz PackageFileSize: 605.7 <A href="http://en.wikipedia.org/wiki/KiB" target="_blank">KiB</A>