Package: rain Version: 1.41.0 Command: rm -rf rain.buildbin-libdir && mkdir rain.buildbin-libdir && E:\biocbuild\bbs-3.21-bioc\R\bin\R.exe CMD INSTALL --build --library=rain.buildbin-libdir rain_1.41.0.tar.gz StartedAt: 2025-02-20 08:31:01 -0500 (Thu, 20 Feb 2025) EndedAt: 2025-02-20 08:31:19 -0500 (Thu, 20 Feb 2025) EllapsedTime: 17.4 seconds RetCode: 0 Status: OK PackageFile: rain_1.41.0.zip PackageFileSize: 636 <A href="http://en.wikipedia.org/wiki/KiB" target="_blank">KiB</A>