Package: rCGH
Version: 1.37.0
Command: /Library/Frameworks/R.framework/Resources/bin/R CMD INSTALL rCGH
StartedAt: 2025-02-19 15:34:59 -0500 (Wed, 19 Feb 2025)
EndedAt: 2025-02-19 15:35:58 -0500 (Wed, 19 Feb 2025)
EllapsedTime: 59.4 seconds
RetCode: 0
Status: OK