Package: rCGH
Version: 1.37.0
Command: /Library/Frameworks/R.framework/Resources/bin/R CMD check --install=check:rCGH.install-out.txt --library=/Library/Frameworks/R.framework/Resources/library --no-vignettes --timings rCGH_1.37.0.tar.gz
StartedAt: 2025-02-19 22:40:21 -0500 (Wed, 19 Feb 2025)
EndedAt: 2025-02-19 22:47:31 -0500 (Wed, 19 Feb 2025)
EllapsedTime: 430.2 seconds
RetCode: 0
Status: OK
CheckDir: rCGH.Rcheck
Warnings: 0