Package: rCGH Version: 1.37.0 Command: /Library/Frameworks/R.framework/Resources/bin/R CMD build --keep-empty-dirs --no-resave-data rCGH StartedAt: 2025-02-19 17:56:13 -0500 (Wed, 19 Feb 2025) EndedAt: 2025-02-19 17:57:50 -0500 (Wed, 19 Feb 2025) EllapsedTime: 97.2 seconds RetCode: 0 Status: OK PackageFile: rCGH_1.37.0.tar.gz PackageFileSize: 3.785 <A href="http://en.wikipedia.org/wiki/MiB" target="_blank">MiB</A>