Package: rCGH Version: 1.37.0 Command: rm -rf rCGH.buildbin-libdir && mkdir rCGH.buildbin-libdir && /Users/biocbuild/BBS/utils/build-universal.sh rCGH_1.37.0.tar.gz /Library/Frameworks/R.framework/Resources/bin/R rCGH.buildbin-libdir StartedAt: 2025-02-20 00:49:02 -0500 (Thu, 20 Feb 2025) EndedAt: 2025-02-20 00:50:05 -0500 (Thu, 20 Feb 2025) EllapsedTime: 63.3 seconds RetCode: 0 Status: OK PackageFile: rCGH_1.37.0.tgz PackageFileSize: 4.89 <A href="http://en.wikipedia.org/wiki/MiB" target="_blank">MiB</A>