Package: rCGH
Version: 1.37.0
Command: rm -rf rCGH.buildbin-libdir && mkdir rCGH.buildbin-libdir && /Users/biocbuild/BBS/utils/build-universal.sh rCGH_1.37.0.tar.gz /Library/Frameworks/R.framework/Resources/bin/R rCGH.buildbin-libdir
StartedAt: 2025-02-19 22:34:28 -0500 (Wed, 19 Feb 2025)
EndedAt: 2025-02-19 22:34:48 -0500 (Wed, 19 Feb 2025)
EllapsedTime: 19.5 seconds
RetCode: 0
Status: OK
PackageFile: rCGH_1.37.0.tgz
PackageFileSize: 4.892 <A href="http://en.wikipedia.org/wiki/MiB" target="_blank">MiB</A>