Package: rCGH
Version: 1.37.0
Maintainer: Frederic Commo
MaintainerEmail: fredcommo at gmail.com
git_url: https://git.bioconductor.org/packages/rCGH
git_branch: devel
git_last_commit: f2bf7cc
git_last_commit_date: 2024-10-29 10:02:24 -0500 (Tue, 29 Oct 2024)