Package: qvalue
Version: 2.39.0
Command: E:\biocbuild\bbs-3.21-bioc\R\bin\R.exe CMD check --no-multiarch --install=check:qvalue.install-out.txt --library=E:\biocbuild\bbs-3.21-bioc\R\library --no-vignettes --timings qvalue_2.39.0.tar.gz
StartedAt: 2025-02-20 04:26:54 -0500 (Thu, 20 Feb 2025)
EndedAt: 2025-02-20 04:27:47 -0500 (Thu, 20 Feb 2025)
EllapsedTime: 53.0 seconds
RetCode: 0
Status: OK
CheckDir: qvalue.Rcheck
Warnings: 0