##############################################################################
##############################################################################
###
### Running command:
###
###   chmod a+r qvalue -R && E:\biocbuild\bbs-3.21-bioc\R\bin\R.exe CMD build --keep-empty-dirs --no-resave-data qvalue
###
##############################################################################
##############################################################################


* checking for file 'qvalue/DESCRIPTION' ... OK
* preparing 'qvalue':
* checking DESCRIPTION meta-information ... OK
* installing the package to build vignettes
* creating vignettes ... OK
Warning: 'inst/doc' files
    'qvalue.Rnw', 'qvalue.pdf', 'qvalue.R'
  ignored as vignettes have been rebuilt.
  Run R CMD build with --no-build-vignettes to prevent rebuilding.
* checking for LF line-endings in source and make files and shell scripts
* checking for empty or unneeded directories
* looking to see if a 'data/datalist' file should be added
* building 'qvalue_2.39.0.tar.gz'