Package: qvalue Version: 2.39.0 Command: rm -rf qvalue.buildbin-libdir && mkdir qvalue.buildbin-libdir && E:\biocbuild\bbs-3.21-bioc\R\bin\R.exe CMD INSTALL --build --library=qvalue.buildbin-libdir qvalue_2.39.0.tar.gz StartedAt: 2025-02-20 08:30:39 -0500 (Thu, 20 Feb 2025) EndedAt: 2025-02-20 08:30:46 -0500 (Thu, 20 Feb 2025) EllapsedTime: 7.9 seconds RetCode: 0 Status: OK PackageFile: qvalue_2.39.0.zip PackageFileSize: 2.681 <A href="http://en.wikipedia.org/wiki/MiB" target="_blank">MiB</A>