Package: qsvaR Version: 1.11.1 Command: /Library/Frameworks/R.framework/Resources/bin/R CMD INSTALL qsvaR StartedAt: 2025-02-18 15:34:10 -0500 (Tue, 18 Feb 2025) EndedAt: 2025-02-18 15:34:49 -0500 (Tue, 18 Feb 2025) EllapsedTime: 38.7 seconds RetCode: 0 Status: OK