Package: qsvaR Version: 1.11.1 Command: /Library/Frameworks/R.framework/Resources/bin/R CMD check --install=check:qsvaR.install-out.txt --library=/Library/Frameworks/R.framework/Resources/library --no-vignettes --timings qsvaR_1.11.1.tar.gz StartedAt: 2025-02-18 22:28:49 -0500 (Tue, 18 Feb 2025) EndedAt: 2025-02-18 22:33:05 -0500 (Tue, 18 Feb 2025) EllapsedTime: 256.8 seconds RetCode: 0 Status: OK CheckDir: qsvaR.Rcheck Warnings: 0