Package: qsvaR
Version: 1.11.1
Command: /Library/Frameworks/R.framework/Resources/bin/R CMD build --keep-empty-dirs --no-resave-data qsvaR
StartedAt: 2025-02-18 17:51:08 -0500 (Tue, 18 Feb 2025)
EndedAt: 2025-02-18 18:00:50 -0500 (Tue, 18 Feb 2025)
EllapsedTime: 581.7 seconds
RetCode: 0
Status: OK
PackageFile: qsvaR_1.11.1.tar.gz
PackageFileSize: 3.809 <A href="http://en.wikipedia.org/wiki/MiB" target="_blank">MiB</A>