Package: qsvaR Version: 1.11.1 Command: rm -rf qsvaR.buildbin-libdir && mkdir qsvaR.buildbin-libdir && /Users/biocbuild/BBS/utils/build-universal.sh qsvaR_1.11.1.tar.gz /Library/Frameworks/R.framework/Resources/bin/R qsvaR.buildbin-libdir StartedAt: 2025-02-19 00:41:00 -0500 (Wed, 19 Feb 2025) EndedAt: 2025-02-19 00:41:43 -0500 (Wed, 19 Feb 2025) EllapsedTime: 42.9 seconds RetCode: 0 Status: OK PackageFile: qsvaR_1.11.1.tgz PackageFileSize: 3.832 <A href="http://en.wikipedia.org/wiki/MiB" target="_blank">MiB</A>