Package: qsvaR Version: 1.11.1 Command: /home/biocbuild/R/R/bin/R CMD check --install=check:qsvaR.install-out.txt --library=/home/biocbuild/R/R/site-library --no-vignettes --timings qsvaR_1.11.1.tar.gz StartedAt: 2025-01-28 14:12:34 -0000 (Tue, 28 Jan 2025) EndedAt: 2025-01-28 14:17:49 -0000 (Tue, 28 Jan 2025) EllapsedTime: 314.3 seconds RetCode: 0 Status: OK CheckDir: qsvaR.Rcheck Warnings: 0