Package: qpgraph Version: 2.41.0 Command: /home/biocbuild/bbs-3.21-bioc/R/bin/R CMD INSTALL qpgraph StartedAt: 2025-02-19 15:41:55 -0500 (Wed, 19 Feb 2025) EndedAt: 2025-02-19 15:42:47 -0500 (Wed, 19 Feb 2025) EllapsedTime: 52.5 seconds RetCode: 0 Status: OK