Package: qpgraph
Version: 2.41.0
Command: /home/biocbuild/bbs-3.21-bioc/R/bin/R CMD check --install=check:qpgraph.install-out.txt --library=/home/biocbuild/bbs-3.21-bioc/R/site-library --timings qpgraph_2.41.0.tar.gz
StartedAt: 2025-02-20 01:27:16 -0500 (Thu, 20 Feb 2025)
EndedAt: 2025-02-20 01:33:43 -0500 (Thu, 20 Feb 2025)
EllapsedTime: 386.7 seconds
RetCode: 0
Status: OK
CheckDir: qpgraph.Rcheck
Warnings: 0